BEGIN:VCALENDAR
VERSION:2.0
PRODID:-//Alves Jiu-Jitsu - Brazilian Jiu-Jitsu | MMA | BJJ | Grappling |  Sarasota, Florida - ECPv6.15.20//NONSGML v1.0//EN
CALSCALE:GREGORIAN
METHOD:PUBLISH
X-WR-CALNAME:Alves Jiu-Jitsu - Brazilian Jiu-Jitsu | MMA | BJJ | Grappling |  Sarasota, Florida
X-ORIGINAL-URL:https://thealvesjiujitsu.com
X-WR-CALDESC:Events for Alves Jiu-Jitsu - Brazilian Jiu-Jitsu | MMA | BJJ | Grappling |  Sarasota, Florida
REFRESH-INTERVAL;VALUE=DURATION:PT1H
X-Robots-Tag:noindex
X-PUBLISHED-TTL:PT1H
BEGIN:VTIMEZONE
TZID:America/New_York
BEGIN:DAYLIGHT
TZOFFSETFROM:-0500
TZOFFSETTO:-0400
TZNAME:EDT
DTSTART:20250309T070000
END:DAYLIGHT
BEGIN:STANDARD
TZOFFSETFROM:-0400
TZOFFSETTO:-0500
TZNAME:EST
DTSTART:20251102T060000
END:STANDARD
BEGIN:DAYLIGHT
TZOFFSETFROM:-0500
TZOFFSETTO:-0400
TZNAME:EDT
DTSTART:20260308T070000
END:DAYLIGHT
BEGIN:STANDARD
TZOFFSETFROM:-0400
TZOFFSETTO:-0500
TZNAME:EST
DTSTART:20261101T060000
END:STANDARD
BEGIN:DAYLIGHT
TZOFFSETFROM:-0500
TZOFFSETTO:-0400
TZNAME:EDT
DTSTART:20270314T070000
END:DAYLIGHT
BEGIN:STANDARD
TZOFFSETFROM:-0400
TZOFFSETTO:-0500
TZNAME:EST
DTSTART:20271107T060000
END:STANDARD
END:VTIMEZONE
BEGIN:VEVENT
DTSTART;TZID=America/New_York:20260403T060000
DTEND;TZID=America/New_York:20260403T070000
DTSTAMP:20260423T061550
CREATED:20240223T031327Z
LAST-MODIFIED:20240223T032730Z
UID:10007652-1775196000-1775199600@thealvesjiujitsu.com
SUMMARY:Open Mat
DESCRIPTION:All welcome. Come to grapple and practice the techniques you learned during the week. $20 mat fee for non-team members.
URL:https://thealvesjiujitsu.com/event/open-mat-3/2026-04-03/
LOCATION:Team Alves Brazilian Jiu-Jitsu\, 5566 Palmer Blvd\, Sarasota\, FL\, 34232\, United States
CATEGORIES:Open Mat
END:VEVENT
BEGIN:VEVENT
DTSTART;TZID=America/New_York:20260403T110000
DTEND;TZID=America/New_York:20260403T120000
DTSTAMP:20260423T061550
CREATED:20240223T031437Z
LAST-MODIFIED:20240223T032700Z
UID:10007913-1775214000-1775217600@thealvesjiujitsu.com
SUMMARY:Open Mat
DESCRIPTION:All welcome. Come to grapple and practice the techniques you learned during the week. $20 mat fee for non-team members.
URL:https://thealvesjiujitsu.com/event/open-mat-4/2026-04-03/
LOCATION:Team Alves Brazilian Jiu-Jitsu\, 5566 Palmer Blvd\, Sarasota\, FL\, 34232\, United States
CATEGORIES:Open Mat
ATTACH;FMTTYPE=image/jpeg:https://thealvesjiujitsu.com/wp-content/uploads/2024/02/open-mat-scaled-1.jpg
END:VEVENT
BEGIN:VEVENT
DTSTART;TZID=America/New_York:20260403T183000
DTEND;TZID=America/New_York:20260403T193000
DTSTAMP:20260423T061550
CREATED:20240223T031615Z
LAST-MODIFIED:20240223T032630Z
UID:10008174-1775241000-1775244600@thealvesjiujitsu.com
SUMMARY:Open Mat
DESCRIPTION:All welcome. Come to grapple and practice the techniques you learned during the week. $20 mat fee for non-team members.
URL:https://thealvesjiujitsu.com/event/open-mat-5/2026-04-03/
LOCATION:FL
CATEGORIES:Open Mat
ATTACH;FMTTYPE=image/jpeg:https://thealvesjiujitsu.com/wp-content/uploads/2024/02/open-mat-scaled-1.jpg
END:VEVENT
END:VCALENDAR