BEGIN:VCALENDAR
VERSION:2.0
PRODID:-//Alves Jiu-Jitsu - Brazilian Jiu-Jitsu | MMA | BJJ | Grappling |  Sarasota, Florida - ECPv6.15.20//NONSGML v1.0//EN
CALSCALE:GREGORIAN
METHOD:PUBLISH
X-ORIGINAL-URL:https://thealvesjiujitsu.com
X-WR-CALDESC:Events for Alves Jiu-Jitsu - Brazilian Jiu-Jitsu | MMA | BJJ | Grappling |  Sarasota, Florida
REFRESH-INTERVAL;VALUE=DURATION:PT1H
X-Robots-Tag:noindex
X-PUBLISHED-TTL:PT1H
BEGIN:VTIMEZONE
TZID:America/New_York
BEGIN:DAYLIGHT
TZOFFSETFROM:-0500
TZOFFSETTO:-0400
TZNAME:EDT
DTSTART:20230312T070000
END:DAYLIGHT
BEGIN:STANDARD
TZOFFSETFROM:-0400
TZOFFSETTO:-0500
TZNAME:EST
DTSTART:20231105T060000
END:STANDARD
BEGIN:DAYLIGHT
TZOFFSETFROM:-0500
TZOFFSETTO:-0400
TZNAME:EDT
DTSTART:20240310T070000
END:DAYLIGHT
BEGIN:STANDARD
TZOFFSETFROM:-0400
TZOFFSETTO:-0500
TZNAME:EST
DTSTART:20241103T060000
END:STANDARD
BEGIN:DAYLIGHT
TZOFFSETFROM:-0500
TZOFFSETTO:-0400
TZNAME:EDT
DTSTART:20250309T070000
END:DAYLIGHT
BEGIN:STANDARD
TZOFFSETFROM:-0400
TZOFFSETTO:-0500
TZNAME:EST
DTSTART:20251102T060000
END:STANDARD
BEGIN:DAYLIGHT
TZOFFSETFROM:-0500
TZOFFSETTO:-0400
TZNAME:EDT
DTSTART:20260308T070000
END:DAYLIGHT
BEGIN:STANDARD
TZOFFSETFROM:-0400
TZOFFSETTO:-0500
TZNAME:EST
DTSTART:20261101T060000
END:STANDARD
BEGIN:DAYLIGHT
TZOFFSETFROM:-0500
TZOFFSETTO:-0400
TZNAME:EDT
DTSTART:20270314T070000
END:DAYLIGHT
BEGIN:STANDARD
TZOFFSETFROM:-0400
TZOFFSETTO:-0500
TZNAME:EST
DTSTART:20271107T060000
END:STANDARD
BEGIN:DAYLIGHT
TZOFFSETFROM:-0500
TZOFFSETTO:-0400
TZNAME:EDT
DTSTART:20280312T070000
END:DAYLIGHT
BEGIN:STANDARD
TZOFFSETFROM:-0400
TZOFFSETTO:-0500
TZNAME:EST
DTSTART:20281105T060000
END:STANDARD
BEGIN:DAYLIGHT
TZOFFSETFROM:-0500
TZOFFSETTO:-0400
TZNAME:EDT
DTSTART:20290311T070000
END:DAYLIGHT
BEGIN:STANDARD
TZOFFSETFROM:-0400
TZOFFSETTO:-0500
TZNAME:EST
DTSTART:20291104T060000
END:STANDARD
END:VTIMEZONE
BEGIN:VEVENT
DTSTART;TZID=America/New_York:20240704T170000
DTEND;TZID=America/New_York:20260705T174500
DTSTAMP:20260419T190637
CREATED:20240223T031841Z
LAST-MODIFIED:20250716T000704Z
UID:10002881-1720112400-1783273500@thealvesjiujitsu.com
SUMMARY:Kids NoGi
DESCRIPTION:Coach Dylan teaches NoGi fundamentals in this dynamic class. A great addition to round out the child’s self-defense skills\, and build confidence.
URL:https://thealvesjiujitsu.com/event/kids-mma-2/2024-07-04/
LOCATION:FL
CATEGORIES:Kids Class,No Gi
ATTACH;FMTTYPE=image/jpeg:https://thealvesjiujitsu.com/wp-content/uploads/2022/02/nico-nogi-kids.jpg
END:VEVENT
BEGIN:VEVENT
DTSTART;TZID=America/New_York:20240708T060000
DTEND;TZID=America/New_York:20280708T070000
DTSTAMP:20260419T190638
CREATED:20211221T052414Z
LAST-MODIFIED:20250716T001254Z
UID:10001774-1720418400-1846652400@thealvesjiujitsu.com
SUMMARY:No Gi Class
DESCRIPTION:One hour No Gi class for all levels.
URL:https://thealvesjiujitsu.com/event/no-gi-class/2024-07-08/
LOCATION:Team Alves Brazilian Jiu-Jitsu\, 5566 Palmer Blvd\, Sarasota\, FL\, 34232\, United States
CATEGORIES:No Gi
ATTACH;FMTTYPE=image/jpeg:https://thealvesjiujitsu.com/wp-content/uploads/2021/11/no-gi-class.jpg
END:VEVENT
BEGIN:VEVENT
DTSTART;TZID=America/New_York:20240709T170000
DTEND;TZID=America/New_York:20260710T174500
DTSTAMP:20260419T190638
CREATED:20240223T031841Z
LAST-MODIFIED:20250716T000704Z
UID:10002882-1720544400-1783705500@thealvesjiujitsu.com
SUMMARY:Kids NoGi
DESCRIPTION:Coach Dylan teaches NoGi fundamentals in this dynamic class. A great addition to round out the child’s self-defense skills\, and build confidence.
URL:https://thealvesjiujitsu.com/event/kids-mma-2/2024-07-09/
LOCATION:FL
CATEGORIES:Kids Class,No Gi
ATTACH;FMTTYPE=image/jpeg:https://thealvesjiujitsu.com/wp-content/uploads/2022/02/nico-nogi-kids.jpg
END:VEVENT
BEGIN:VEVENT
DTSTART;TZID=America/New_York:20240710T060000
DTEND;TZID=America/New_York:20280710T070000
DTSTAMP:20260419T190638
CREATED:20211221T052414Z
LAST-MODIFIED:20250716T001254Z
UID:10001775-1720591200-1846825200@thealvesjiujitsu.com
SUMMARY:No Gi Class
DESCRIPTION:One hour No Gi class for all levels.
URL:https://thealvesjiujitsu.com/event/no-gi-class/2024-07-10/
LOCATION:Team Alves Brazilian Jiu-Jitsu\, 5566 Palmer Blvd\, Sarasota\, FL\, 34232\, United States
CATEGORIES:No Gi
ATTACH;FMTTYPE=image/jpeg:https://thealvesjiujitsu.com/wp-content/uploads/2021/11/no-gi-class.jpg
END:VEVENT
BEGIN:VEVENT
DTSTART;TZID=America/New_York:20240711T170000
DTEND;TZID=America/New_York:20260712T174500
DTSTAMP:20260419T190638
CREATED:20240223T031841Z
LAST-MODIFIED:20250716T000704Z
UID:10002883-1720717200-1783878300@thealvesjiujitsu.com
SUMMARY:Kids NoGi
DESCRIPTION:Coach Dylan teaches NoGi fundamentals in this dynamic class. A great addition to round out the child’s self-defense skills\, and build confidence.
URL:https://thealvesjiujitsu.com/event/kids-mma-2/2024-07-11/
LOCATION:FL
CATEGORIES:Kids Class,No Gi
ATTACH;FMTTYPE=image/jpeg:https://thealvesjiujitsu.com/wp-content/uploads/2022/02/nico-nogi-kids.jpg
END:VEVENT
BEGIN:VEVENT
DTSTART;TZID=America/New_York:20240715T060000
DTEND;TZID=America/New_York:20280715T070000
DTSTAMP:20260419T190638
CREATED:20211221T052414Z
LAST-MODIFIED:20250716T001254Z
UID:10001776-1721023200-1847257200@thealvesjiujitsu.com
SUMMARY:No Gi Class
DESCRIPTION:One hour No Gi class for all levels.
URL:https://thealvesjiujitsu.com/event/no-gi-class/2024-07-15/
LOCATION:Team Alves Brazilian Jiu-Jitsu\, 5566 Palmer Blvd\, Sarasota\, FL\, 34232\, United States
CATEGORIES:No Gi
ATTACH;FMTTYPE=image/jpeg:https://thealvesjiujitsu.com/wp-content/uploads/2021/11/no-gi-class.jpg
END:VEVENT
BEGIN:VEVENT
DTSTART;TZID=America/New_York:20240716T170000
DTEND;TZID=America/New_York:20260717T174500
DTSTAMP:20260419T190638
CREATED:20240223T031841Z
LAST-MODIFIED:20250716T000704Z
UID:10002884-1721149200-1784310300@thealvesjiujitsu.com
SUMMARY:Kids NoGi
DESCRIPTION:Coach Dylan teaches NoGi fundamentals in this dynamic class. A great addition to round out the child’s self-defense skills\, and build confidence.
URL:https://thealvesjiujitsu.com/event/kids-mma-2/2024-07-16/
LOCATION:FL
CATEGORIES:Kids Class,No Gi
ATTACH;FMTTYPE=image/jpeg:https://thealvesjiujitsu.com/wp-content/uploads/2022/02/nico-nogi-kids.jpg
END:VEVENT
BEGIN:VEVENT
DTSTART;TZID=America/New_York:20240717T060000
DTEND;TZID=America/New_York:20280717T070000
DTSTAMP:20260419T190638
CREATED:20211221T052414Z
LAST-MODIFIED:20250716T001254Z
UID:10001777-1721196000-1847430000@thealvesjiujitsu.com
SUMMARY:No Gi Class
DESCRIPTION:One hour No Gi class for all levels.
URL:https://thealvesjiujitsu.com/event/no-gi-class/2024-07-17/
LOCATION:Team Alves Brazilian Jiu-Jitsu\, 5566 Palmer Blvd\, Sarasota\, FL\, 34232\, United States
CATEGORIES:No Gi
ATTACH;FMTTYPE=image/jpeg:https://thealvesjiujitsu.com/wp-content/uploads/2021/11/no-gi-class.jpg
END:VEVENT
BEGIN:VEVENT
DTSTART;TZID=America/New_York:20240718T170000
DTEND;TZID=America/New_York:20260719T174500
DTSTAMP:20260419T190638
CREATED:20240223T031841Z
LAST-MODIFIED:20250716T000704Z
UID:10002885-1721322000-1784483100@thealvesjiujitsu.com
SUMMARY:Kids NoGi
DESCRIPTION:Coach Dylan teaches NoGi fundamentals in this dynamic class. A great addition to round out the child’s self-defense skills\, and build confidence.
URL:https://thealvesjiujitsu.com/event/kids-mma-2/2024-07-18/
LOCATION:FL
CATEGORIES:Kids Class,No Gi
ATTACH;FMTTYPE=image/jpeg:https://thealvesjiujitsu.com/wp-content/uploads/2022/02/nico-nogi-kids.jpg
END:VEVENT
BEGIN:VEVENT
DTSTART;TZID=America/New_York:20240722T060000
DTEND;TZID=America/New_York:20280722T070000
DTSTAMP:20260419T190638
CREATED:20211221T052414Z
LAST-MODIFIED:20250716T001254Z
UID:10001778-1721628000-1847862000@thealvesjiujitsu.com
SUMMARY:No Gi Class
DESCRIPTION:One hour No Gi class for all levels.
URL:https://thealvesjiujitsu.com/event/no-gi-class/2024-07-22/
LOCATION:Team Alves Brazilian Jiu-Jitsu\, 5566 Palmer Blvd\, Sarasota\, FL\, 34232\, United States
CATEGORIES:No Gi
ATTACH;FMTTYPE=image/jpeg:https://thealvesjiujitsu.com/wp-content/uploads/2021/11/no-gi-class.jpg
END:VEVENT
BEGIN:VEVENT
DTSTART;TZID=America/New_York:20240723T170000
DTEND;TZID=America/New_York:20260724T174500
DTSTAMP:20260419T190638
CREATED:20240223T031841Z
LAST-MODIFIED:20250716T000704Z
UID:10002886-1721754000-1784915100@thealvesjiujitsu.com
SUMMARY:Kids NoGi
DESCRIPTION:Coach Dylan teaches NoGi fundamentals in this dynamic class. A great addition to round out the child’s self-defense skills\, and build confidence.
URL:https://thealvesjiujitsu.com/event/kids-mma-2/2024-07-23/
LOCATION:FL
CATEGORIES:Kids Class,No Gi
ATTACH;FMTTYPE=image/jpeg:https://thealvesjiujitsu.com/wp-content/uploads/2022/02/nico-nogi-kids.jpg
END:VEVENT
BEGIN:VEVENT
DTSTART;TZID=America/New_York:20240724T060000
DTEND;TZID=America/New_York:20280724T070000
DTSTAMP:20260419T190638
CREATED:20211221T052414Z
LAST-MODIFIED:20250716T001254Z
UID:10001779-1721800800-1848034800@thealvesjiujitsu.com
SUMMARY:No Gi Class
DESCRIPTION:One hour No Gi class for all levels.
URL:https://thealvesjiujitsu.com/event/no-gi-class/2024-07-24/
LOCATION:Team Alves Brazilian Jiu-Jitsu\, 5566 Palmer Blvd\, Sarasota\, FL\, 34232\, United States
CATEGORIES:No Gi
ATTACH;FMTTYPE=image/jpeg:https://thealvesjiujitsu.com/wp-content/uploads/2021/11/no-gi-class.jpg
END:VEVENT
BEGIN:VEVENT
DTSTART;TZID=America/New_York:20240725T170000
DTEND;TZID=America/New_York:20260726T174500
DTSTAMP:20260419T190638
CREATED:20240223T031841Z
LAST-MODIFIED:20250716T000704Z
UID:10002887-1721926800-1785087900@thealvesjiujitsu.com
SUMMARY:Kids NoGi
DESCRIPTION:Coach Dylan teaches NoGi fundamentals in this dynamic class. A great addition to round out the child’s self-defense skills\, and build confidence.
URL:https://thealvesjiujitsu.com/event/kids-mma-2/2024-07-25/
LOCATION:FL
CATEGORIES:Kids Class,No Gi
ATTACH;FMTTYPE=image/jpeg:https://thealvesjiujitsu.com/wp-content/uploads/2022/02/nico-nogi-kids.jpg
END:VEVENT
BEGIN:VEVENT
DTSTART;TZID=America/New_York:20240729T060000
DTEND;TZID=America/New_York:20280729T070000
DTSTAMP:20260419T190638
CREATED:20211221T052414Z
LAST-MODIFIED:20250716T001254Z
UID:10001780-1722232800-1848466800@thealvesjiujitsu.com
SUMMARY:No Gi Class
DESCRIPTION:One hour No Gi class for all levels.
URL:https://thealvesjiujitsu.com/event/no-gi-class/2024-07-29/
LOCATION:Team Alves Brazilian Jiu-Jitsu\, 5566 Palmer Blvd\, Sarasota\, FL\, 34232\, United States
CATEGORIES:No Gi
ATTACH;FMTTYPE=image/jpeg:https://thealvesjiujitsu.com/wp-content/uploads/2021/11/no-gi-class.jpg
END:VEVENT
BEGIN:VEVENT
DTSTART;TZID=America/New_York:20240730T170000
DTEND;TZID=America/New_York:20260731T174500
DTSTAMP:20260419T190638
CREATED:20240223T031841Z
LAST-MODIFIED:20250716T000704Z
UID:10002888-1722358800-1785519900@thealvesjiujitsu.com
SUMMARY:Kids NoGi
DESCRIPTION:Coach Dylan teaches NoGi fundamentals in this dynamic class. A great addition to round out the child’s self-defense skills\, and build confidence.
URL:https://thealvesjiujitsu.com/event/kids-mma-2/2024-07-30/
LOCATION:FL
CATEGORIES:Kids Class,No Gi
ATTACH;FMTTYPE=image/jpeg:https://thealvesjiujitsu.com/wp-content/uploads/2022/02/nico-nogi-kids.jpg
END:VEVENT
BEGIN:VEVENT
DTSTART;TZID=America/New_York:20240731T060000
DTEND;TZID=America/New_York:20280731T070000
DTSTAMP:20260419T190638
CREATED:20211221T052414Z
LAST-MODIFIED:20250716T001254Z
UID:10001781-1722405600-1848639600@thealvesjiujitsu.com
SUMMARY:No Gi Class
DESCRIPTION:One hour No Gi class for all levels.
URL:https://thealvesjiujitsu.com/event/no-gi-class/2024-07-31/
LOCATION:Team Alves Brazilian Jiu-Jitsu\, 5566 Palmer Blvd\, Sarasota\, FL\, 34232\, United States
CATEGORIES:No Gi
ATTACH;FMTTYPE=image/jpeg:https://thealvesjiujitsu.com/wp-content/uploads/2021/11/no-gi-class.jpg
END:VEVENT
BEGIN:VEVENT
DTSTART;TZID=America/New_York:20240801T170000
DTEND;TZID=America/New_York:20260802T174500
DTSTAMP:20260419T190638
CREATED:20240223T031841Z
LAST-MODIFIED:20250716T000704Z
UID:10002889-1722531600-1785692700@thealvesjiujitsu.com
SUMMARY:Kids NoGi
DESCRIPTION:Coach Dylan teaches NoGi fundamentals in this dynamic class. A great addition to round out the child’s self-defense skills\, and build confidence.
URL:https://thealvesjiujitsu.com/event/kids-mma-2/2024-08-01/
LOCATION:FL
CATEGORIES:Kids Class,No Gi
ATTACH;FMTTYPE=image/jpeg:https://thealvesjiujitsu.com/wp-content/uploads/2022/02/nico-nogi-kids.jpg
END:VEVENT
BEGIN:VEVENT
DTSTART;TZID=America/New_York:20240805T060000
DTEND;TZID=America/New_York:20280805T070000
DTSTAMP:20260419T190638
CREATED:20211221T052414Z
LAST-MODIFIED:20250716T001254Z
UID:10001782-1722837600-1849071600@thealvesjiujitsu.com
SUMMARY:No Gi Class
DESCRIPTION:One hour No Gi class for all levels.
URL:https://thealvesjiujitsu.com/event/no-gi-class/2024-08-05/
LOCATION:Team Alves Brazilian Jiu-Jitsu\, 5566 Palmer Blvd\, Sarasota\, FL\, 34232\, United States
CATEGORIES:No Gi
ATTACH;FMTTYPE=image/jpeg:https://thealvesjiujitsu.com/wp-content/uploads/2021/11/no-gi-class.jpg
END:VEVENT
BEGIN:VEVENT
DTSTART;TZID=America/New_York:20240806T170000
DTEND;TZID=America/New_York:20260807T174500
DTSTAMP:20260419T190638
CREATED:20240223T031841Z
LAST-MODIFIED:20250716T000704Z
UID:10002890-1722963600-1786124700@thealvesjiujitsu.com
SUMMARY:Kids NoGi
DESCRIPTION:Coach Dylan teaches NoGi fundamentals in this dynamic class. A great addition to round out the child’s self-defense skills\, and build confidence.
URL:https://thealvesjiujitsu.com/event/kids-mma-2/2024-08-06/
LOCATION:FL
CATEGORIES:Kids Class,No Gi
ATTACH;FMTTYPE=image/jpeg:https://thealvesjiujitsu.com/wp-content/uploads/2022/02/nico-nogi-kids.jpg
END:VEVENT
BEGIN:VEVENT
DTSTART;TZID=America/New_York:20240807T060000
DTEND;TZID=America/New_York:20280807T070000
DTSTAMP:20260419T190638
CREATED:20211221T052414Z
LAST-MODIFIED:20250716T001254Z
UID:10001783-1723010400-1849244400@thealvesjiujitsu.com
SUMMARY:No Gi Class
DESCRIPTION:One hour No Gi class for all levels.
URL:https://thealvesjiujitsu.com/event/no-gi-class/2024-08-07/
LOCATION:Team Alves Brazilian Jiu-Jitsu\, 5566 Palmer Blvd\, Sarasota\, FL\, 34232\, United States
CATEGORIES:No Gi
ATTACH;FMTTYPE=image/jpeg:https://thealvesjiujitsu.com/wp-content/uploads/2021/11/no-gi-class.jpg
END:VEVENT
BEGIN:VEVENT
DTSTART;TZID=America/New_York:20240808T170000
DTEND;TZID=America/New_York:20260809T174500
DTSTAMP:20260419T190638
CREATED:20240223T031841Z
LAST-MODIFIED:20250716T000704Z
UID:10002891-1723136400-1786297500@thealvesjiujitsu.com
SUMMARY:Kids NoGi
DESCRIPTION:Coach Dylan teaches NoGi fundamentals in this dynamic class. A great addition to round out the child’s self-defense skills\, and build confidence.
URL:https://thealvesjiujitsu.com/event/kids-mma-2/2024-08-08/
LOCATION:FL
CATEGORIES:Kids Class,No Gi
ATTACH;FMTTYPE=image/jpeg:https://thealvesjiujitsu.com/wp-content/uploads/2022/02/nico-nogi-kids.jpg
END:VEVENT
BEGIN:VEVENT
DTSTART;TZID=America/New_York:20240812T060000
DTEND;TZID=America/New_York:20280812T070000
DTSTAMP:20260419T190638
CREATED:20211221T052414Z
LAST-MODIFIED:20250716T001254Z
UID:10001784-1723442400-1849676400@thealvesjiujitsu.com
SUMMARY:No Gi Class
DESCRIPTION:One hour No Gi class for all levels.
URL:https://thealvesjiujitsu.com/event/no-gi-class/2024-08-12/
LOCATION:Team Alves Brazilian Jiu-Jitsu\, 5566 Palmer Blvd\, Sarasota\, FL\, 34232\, United States
CATEGORIES:No Gi
ATTACH;FMTTYPE=image/jpeg:https://thealvesjiujitsu.com/wp-content/uploads/2021/11/no-gi-class.jpg
END:VEVENT
BEGIN:VEVENT
DTSTART;TZID=America/New_York:20240813T170000
DTEND;TZID=America/New_York:20260814T174500
DTSTAMP:20260419T190639
CREATED:20240223T031841Z
LAST-MODIFIED:20250716T000704Z
UID:10002892-1723568400-1786729500@thealvesjiujitsu.com
SUMMARY:Kids NoGi
DESCRIPTION:Coach Dylan teaches NoGi fundamentals in this dynamic class. A great addition to round out the child’s self-defense skills\, and build confidence.
URL:https://thealvesjiujitsu.com/event/kids-mma-2/2024-08-13/
LOCATION:FL
CATEGORIES:Kids Class,No Gi
ATTACH;FMTTYPE=image/jpeg:https://thealvesjiujitsu.com/wp-content/uploads/2022/02/nico-nogi-kids.jpg
END:VEVENT
BEGIN:VEVENT
DTSTART;TZID=America/New_York:20240814T060000
DTEND;TZID=America/New_York:20280814T070000
DTSTAMP:20260419T190639
CREATED:20211221T052414Z
LAST-MODIFIED:20250716T001254Z
UID:10001785-1723615200-1849849200@thealvesjiujitsu.com
SUMMARY:No Gi Class
DESCRIPTION:One hour No Gi class for all levels.
URL:https://thealvesjiujitsu.com/event/no-gi-class/2024-08-14/
LOCATION:Team Alves Brazilian Jiu-Jitsu\, 5566 Palmer Blvd\, Sarasota\, FL\, 34232\, United States
CATEGORIES:No Gi
ATTACH;FMTTYPE=image/jpeg:https://thealvesjiujitsu.com/wp-content/uploads/2021/11/no-gi-class.jpg
END:VEVENT
BEGIN:VEVENT
DTSTART;TZID=America/New_York:20240815T170000
DTEND;TZID=America/New_York:20260816T174500
DTSTAMP:20260419T190639
CREATED:20240223T031841Z
LAST-MODIFIED:20250716T000704Z
UID:10002893-1723741200-1786902300@thealvesjiujitsu.com
SUMMARY:Kids NoGi
DESCRIPTION:Coach Dylan teaches NoGi fundamentals in this dynamic class. A great addition to round out the child’s self-defense skills\, and build confidence.
URL:https://thealvesjiujitsu.com/event/kids-mma-2/2024-08-15/
LOCATION:FL
CATEGORIES:Kids Class,No Gi
ATTACH;FMTTYPE=image/jpeg:https://thealvesjiujitsu.com/wp-content/uploads/2022/02/nico-nogi-kids.jpg
END:VEVENT
BEGIN:VEVENT
DTSTART;TZID=America/New_York:20240819T060000
DTEND;TZID=America/New_York:20280819T070000
DTSTAMP:20260419T190639
CREATED:20211221T052414Z
LAST-MODIFIED:20250716T001254Z
UID:10001786-1724047200-1850281200@thealvesjiujitsu.com
SUMMARY:No Gi Class
DESCRIPTION:One hour No Gi class for all levels.
URL:https://thealvesjiujitsu.com/event/no-gi-class/2024-08-19/
LOCATION:Team Alves Brazilian Jiu-Jitsu\, 5566 Palmer Blvd\, Sarasota\, FL\, 34232\, United States
CATEGORIES:No Gi
ATTACH;FMTTYPE=image/jpeg:https://thealvesjiujitsu.com/wp-content/uploads/2021/11/no-gi-class.jpg
END:VEVENT
BEGIN:VEVENT
DTSTART;TZID=America/New_York:20240820T170000
DTEND;TZID=America/New_York:20260821T174500
DTSTAMP:20260419T190639
CREATED:20240223T031841Z
LAST-MODIFIED:20250716T000704Z
UID:10002894-1724173200-1787334300@thealvesjiujitsu.com
SUMMARY:Kids NoGi
DESCRIPTION:Coach Dylan teaches NoGi fundamentals in this dynamic class. A great addition to round out the child’s self-defense skills\, and build confidence.
URL:https://thealvesjiujitsu.com/event/kids-mma-2/2024-08-20/
LOCATION:FL
CATEGORIES:Kids Class,No Gi
ATTACH;FMTTYPE=image/jpeg:https://thealvesjiujitsu.com/wp-content/uploads/2022/02/nico-nogi-kids.jpg
END:VEVENT
BEGIN:VEVENT
DTSTART;TZID=America/New_York:20240821T060000
DTEND;TZID=America/New_York:20280821T070000
DTSTAMP:20260419T190639
CREATED:20211221T052414Z
LAST-MODIFIED:20250716T001254Z
UID:10001787-1724220000-1850454000@thealvesjiujitsu.com
SUMMARY:No Gi Class
DESCRIPTION:One hour No Gi class for all levels.
URL:https://thealvesjiujitsu.com/event/no-gi-class/2024-08-21/
LOCATION:Team Alves Brazilian Jiu-Jitsu\, 5566 Palmer Blvd\, Sarasota\, FL\, 34232\, United States
CATEGORIES:No Gi
ATTACH;FMTTYPE=image/jpeg:https://thealvesjiujitsu.com/wp-content/uploads/2021/11/no-gi-class.jpg
END:VEVENT
BEGIN:VEVENT
DTSTART;TZID=America/New_York:20240822T170000
DTEND;TZID=America/New_York:20260823T174500
DTSTAMP:20260419T190639
CREATED:20240223T031841Z
LAST-MODIFIED:20250716T000704Z
UID:10002895-1724346000-1787507100@thealvesjiujitsu.com
SUMMARY:Kids NoGi
DESCRIPTION:Coach Dylan teaches NoGi fundamentals in this dynamic class. A great addition to round out the child’s self-defense skills\, and build confidence.
URL:https://thealvesjiujitsu.com/event/kids-mma-2/2024-08-22/
LOCATION:FL
CATEGORIES:Kids Class,No Gi
ATTACH;FMTTYPE=image/jpeg:https://thealvesjiujitsu.com/wp-content/uploads/2022/02/nico-nogi-kids.jpg
END:VEVENT
BEGIN:VEVENT
DTSTART;TZID=America/New_York:20240826T060000
DTEND;TZID=America/New_York:20280826T070000
DTSTAMP:20260419T190639
CREATED:20211221T052414Z
LAST-MODIFIED:20250716T001254Z
UID:10001788-1724652000-1850886000@thealvesjiujitsu.com
SUMMARY:No Gi Class
DESCRIPTION:One hour No Gi class for all levels.
URL:https://thealvesjiujitsu.com/event/no-gi-class/2024-08-26/
LOCATION:Team Alves Brazilian Jiu-Jitsu\, 5566 Palmer Blvd\, Sarasota\, FL\, 34232\, United States
CATEGORIES:No Gi
ATTACH;FMTTYPE=image/jpeg:https://thealvesjiujitsu.com/wp-content/uploads/2021/11/no-gi-class.jpg
END:VEVENT
END:VCALENDAR