BEGIN:VCALENDAR
VERSION:2.0
PRODID:-//Alves Jiu-Jitsu - Brazilian Jiu-Jitsu | MMA | BJJ | Grappling |  Sarasota, Florida - ECPv6.15.20//NONSGML v1.0//EN
CALSCALE:GREGORIAN
METHOD:PUBLISH
X-ORIGINAL-URL:https://thealvesjiujitsu.com
X-WR-CALDESC:Events for Alves Jiu-Jitsu - Brazilian Jiu-Jitsu | MMA | BJJ | Grappling |  Sarasota, Florida
REFRESH-INTERVAL;VALUE=DURATION:PT1H
X-Robots-Tag:noindex
X-PUBLISHED-TTL:PT1H
BEGIN:VTIMEZONE
TZID:America/New_York
BEGIN:DAYLIGHT
TZOFFSETFROM:-0500
TZOFFSETTO:-0400
TZNAME:EDT
DTSTART:20230312T070000
END:DAYLIGHT
BEGIN:STANDARD
TZOFFSETFROM:-0400
TZOFFSETTO:-0500
TZNAME:EST
DTSTART:20231105T060000
END:STANDARD
BEGIN:DAYLIGHT
TZOFFSETFROM:-0500
TZOFFSETTO:-0400
TZNAME:EDT
DTSTART:20240310T070000
END:DAYLIGHT
BEGIN:STANDARD
TZOFFSETFROM:-0400
TZOFFSETTO:-0500
TZNAME:EST
DTSTART:20241103T060000
END:STANDARD
BEGIN:DAYLIGHT
TZOFFSETFROM:-0500
TZOFFSETTO:-0400
TZNAME:EDT
DTSTART:20250309T070000
END:DAYLIGHT
BEGIN:STANDARD
TZOFFSETFROM:-0400
TZOFFSETTO:-0500
TZNAME:EST
DTSTART:20251102T060000
END:STANDARD
BEGIN:DAYLIGHT
TZOFFSETFROM:-0500
TZOFFSETTO:-0400
TZNAME:EDT
DTSTART:20260308T070000
END:DAYLIGHT
BEGIN:STANDARD
TZOFFSETFROM:-0400
TZOFFSETTO:-0500
TZNAME:EST
DTSTART:20261101T060000
END:STANDARD
BEGIN:DAYLIGHT
TZOFFSETFROM:-0500
TZOFFSETTO:-0400
TZNAME:EDT
DTSTART:20270314T070000
END:DAYLIGHT
BEGIN:STANDARD
TZOFFSETFROM:-0400
TZOFFSETTO:-0500
TZNAME:EST
DTSTART:20271107T060000
END:STANDARD
BEGIN:DAYLIGHT
TZOFFSETFROM:-0500
TZOFFSETTO:-0400
TZNAME:EDT
DTSTART:20280312T070000
END:DAYLIGHT
BEGIN:STANDARD
TZOFFSETFROM:-0400
TZOFFSETTO:-0500
TZNAME:EST
DTSTART:20281105T060000
END:STANDARD
BEGIN:DAYLIGHT
TZOFFSETFROM:-0500
TZOFFSETTO:-0400
TZNAME:EDT
DTSTART:20290311T070000
END:DAYLIGHT
BEGIN:STANDARD
TZOFFSETFROM:-0400
TZOFFSETTO:-0500
TZNAME:EST
DTSTART:20291104T060000
END:STANDARD
END:VTIMEZONE
BEGIN:VEVENT
DTSTART;TZID=America/New_York:20240905T170000
DTEND;TZID=America/New_York:20260906T174500
DTSTAMP:20260422T091926
CREATED:20240223T031841Z
LAST-MODIFIED:20250716T000704Z
UID:10002899-1725555600-1788716700@thealvesjiujitsu.com
SUMMARY:Kids NoGi
DESCRIPTION:Coach Dylan teaches NoGi fundamentals in this dynamic class. A great addition to round out the child’s self-defense skills\, and build confidence.
URL:https://thealvesjiujitsu.com/event/kids-mma-2/2024-09-05/
LOCATION:FL
CATEGORIES:Kids Class,No Gi
ATTACH;FMTTYPE=image/jpeg:https://thealvesjiujitsu.com/wp-content/uploads/2022/02/nico-nogi-kids.jpg
END:VEVENT
BEGIN:VEVENT
DTSTART;TZID=America/New_York:20240909T060000
DTEND;TZID=America/New_York:20280909T070000
DTSTAMP:20260422T091926
CREATED:20211221T052414Z
LAST-MODIFIED:20250716T001254Z
UID:10001792-1725861600-1852095600@thealvesjiujitsu.com
SUMMARY:No Gi Class
DESCRIPTION:One hour No Gi class for all levels.
URL:https://thealvesjiujitsu.com/event/no-gi-class/2024-09-09/
LOCATION:Team Alves Brazilian Jiu-Jitsu\, 5566 Palmer Blvd\, Sarasota\, FL\, 34232\, United States
CATEGORIES:No Gi
ATTACH;FMTTYPE=image/jpeg:https://thealvesjiujitsu.com/wp-content/uploads/2021/11/no-gi-class.jpg
END:VEVENT
BEGIN:VEVENT
DTSTART;TZID=America/New_York:20240910T170000
DTEND;TZID=America/New_York:20260911T174500
DTSTAMP:20260422T091926
CREATED:20240223T031841Z
LAST-MODIFIED:20250716T000704Z
UID:10002900-1725987600-1789148700@thealvesjiujitsu.com
SUMMARY:Kids NoGi
DESCRIPTION:Coach Dylan teaches NoGi fundamentals in this dynamic class. A great addition to round out the child’s self-defense skills\, and build confidence.
URL:https://thealvesjiujitsu.com/event/kids-mma-2/2024-09-10/
LOCATION:FL
CATEGORIES:Kids Class,No Gi
ATTACH;FMTTYPE=image/jpeg:https://thealvesjiujitsu.com/wp-content/uploads/2022/02/nico-nogi-kids.jpg
END:VEVENT
BEGIN:VEVENT
DTSTART;TZID=America/New_York:20240911T060000
DTEND;TZID=America/New_York:20280911T070000
DTSTAMP:20260422T091926
CREATED:20211221T052414Z
LAST-MODIFIED:20250716T001254Z
UID:10001793-1726034400-1852268400@thealvesjiujitsu.com
SUMMARY:No Gi Class
DESCRIPTION:One hour No Gi class for all levels.
URL:https://thealvesjiujitsu.com/event/no-gi-class/2024-09-11/
LOCATION:Team Alves Brazilian Jiu-Jitsu\, 5566 Palmer Blvd\, Sarasota\, FL\, 34232\, United States
CATEGORIES:No Gi
ATTACH;FMTTYPE=image/jpeg:https://thealvesjiujitsu.com/wp-content/uploads/2021/11/no-gi-class.jpg
END:VEVENT
BEGIN:VEVENT
DTSTART;TZID=America/New_York:20240912T170000
DTEND;TZID=America/New_York:20260913T174500
DTSTAMP:20260422T091926
CREATED:20240223T031841Z
LAST-MODIFIED:20250716T000704Z
UID:10002901-1726160400-1789321500@thealvesjiujitsu.com
SUMMARY:Kids NoGi
DESCRIPTION:Coach Dylan teaches NoGi fundamentals in this dynamic class. A great addition to round out the child’s self-defense skills\, and build confidence.
URL:https://thealvesjiujitsu.com/event/kids-mma-2/2024-09-12/
LOCATION:FL
CATEGORIES:Kids Class,No Gi
ATTACH;FMTTYPE=image/jpeg:https://thealvesjiujitsu.com/wp-content/uploads/2022/02/nico-nogi-kids.jpg
END:VEVENT
BEGIN:VEVENT
DTSTART;TZID=America/New_York:20240916T060000
DTEND;TZID=America/New_York:20280916T070000
DTSTAMP:20260422T091926
CREATED:20211221T052414Z
LAST-MODIFIED:20250716T001254Z
UID:10001794-1726466400-1852700400@thealvesjiujitsu.com
SUMMARY:No Gi Class
DESCRIPTION:One hour No Gi class for all levels.
URL:https://thealvesjiujitsu.com/event/no-gi-class/2024-09-16/
LOCATION:Team Alves Brazilian Jiu-Jitsu\, 5566 Palmer Blvd\, Sarasota\, FL\, 34232\, United States
CATEGORIES:No Gi
ATTACH;FMTTYPE=image/jpeg:https://thealvesjiujitsu.com/wp-content/uploads/2021/11/no-gi-class.jpg
END:VEVENT
BEGIN:VEVENT
DTSTART;TZID=America/New_York:20240917T170000
DTEND;TZID=America/New_York:20260918T174500
DTSTAMP:20260422T091926
CREATED:20240223T031841Z
LAST-MODIFIED:20250716T000704Z
UID:10002902-1726592400-1789753500@thealvesjiujitsu.com
SUMMARY:Kids NoGi
DESCRIPTION:Coach Dylan teaches NoGi fundamentals in this dynamic class. A great addition to round out the child’s self-defense skills\, and build confidence.
URL:https://thealvesjiujitsu.com/event/kids-mma-2/2024-09-17/
LOCATION:FL
CATEGORIES:Kids Class,No Gi
ATTACH;FMTTYPE=image/jpeg:https://thealvesjiujitsu.com/wp-content/uploads/2022/02/nico-nogi-kids.jpg
END:VEVENT
BEGIN:VEVENT
DTSTART;TZID=America/New_York:20240918T060000
DTEND;TZID=America/New_York:20280918T070000
DTSTAMP:20260422T091926
CREATED:20211221T052414Z
LAST-MODIFIED:20250716T001254Z
UID:10001795-1726639200-1852873200@thealvesjiujitsu.com
SUMMARY:No Gi Class
DESCRIPTION:One hour No Gi class for all levels.
URL:https://thealvesjiujitsu.com/event/no-gi-class/2024-09-18/
LOCATION:Team Alves Brazilian Jiu-Jitsu\, 5566 Palmer Blvd\, Sarasota\, FL\, 34232\, United States
CATEGORIES:No Gi
ATTACH;FMTTYPE=image/jpeg:https://thealvesjiujitsu.com/wp-content/uploads/2021/11/no-gi-class.jpg
END:VEVENT
BEGIN:VEVENT
DTSTART;TZID=America/New_York:20240919T170000
DTEND;TZID=America/New_York:20260920T174500
DTSTAMP:20260422T091926
CREATED:20240223T031841Z
LAST-MODIFIED:20250716T000704Z
UID:10002903-1726765200-1789926300@thealvesjiujitsu.com
SUMMARY:Kids NoGi
DESCRIPTION:Coach Dylan teaches NoGi fundamentals in this dynamic class. A great addition to round out the child’s self-defense skills\, and build confidence.
URL:https://thealvesjiujitsu.com/event/kids-mma-2/2024-09-19/
LOCATION:FL
CATEGORIES:Kids Class,No Gi
ATTACH;FMTTYPE=image/jpeg:https://thealvesjiujitsu.com/wp-content/uploads/2022/02/nico-nogi-kids.jpg
END:VEVENT
BEGIN:VEVENT
DTSTART;TZID=America/New_York:20240923T060000
DTEND;TZID=America/New_York:20280923T070000
DTSTAMP:20260422T091926
CREATED:20211221T052414Z
LAST-MODIFIED:20250716T001254Z
UID:10001796-1727071200-1853305200@thealvesjiujitsu.com
SUMMARY:No Gi Class
DESCRIPTION:One hour No Gi class for all levels.
URL:https://thealvesjiujitsu.com/event/no-gi-class/2024-09-23/
LOCATION:Team Alves Brazilian Jiu-Jitsu\, 5566 Palmer Blvd\, Sarasota\, FL\, 34232\, United States
CATEGORIES:No Gi
ATTACH;FMTTYPE=image/jpeg:https://thealvesjiujitsu.com/wp-content/uploads/2021/11/no-gi-class.jpg
END:VEVENT
BEGIN:VEVENT
DTSTART;TZID=America/New_York:20240924T170000
DTEND;TZID=America/New_York:20260925T174500
DTSTAMP:20260422T091926
CREATED:20240223T031841Z
LAST-MODIFIED:20250716T000704Z
UID:10002904-1727197200-1790358300@thealvesjiujitsu.com
SUMMARY:Kids NoGi
DESCRIPTION:Coach Dylan teaches NoGi fundamentals in this dynamic class. A great addition to round out the child’s self-defense skills\, and build confidence.
URL:https://thealvesjiujitsu.com/event/kids-mma-2/2024-09-24/
LOCATION:FL
CATEGORIES:Kids Class,No Gi
ATTACH;FMTTYPE=image/jpeg:https://thealvesjiujitsu.com/wp-content/uploads/2022/02/nico-nogi-kids.jpg
END:VEVENT
BEGIN:VEVENT
DTSTART;TZID=America/New_York:20240925T060000
DTEND;TZID=America/New_York:20280925T070000
DTSTAMP:20260422T091926
CREATED:20211221T052414Z
LAST-MODIFIED:20250716T001254Z
UID:10001797-1727244000-1853478000@thealvesjiujitsu.com
SUMMARY:No Gi Class
DESCRIPTION:One hour No Gi class for all levels.
URL:https://thealvesjiujitsu.com/event/no-gi-class/2024-09-25/
LOCATION:Team Alves Brazilian Jiu-Jitsu\, 5566 Palmer Blvd\, Sarasota\, FL\, 34232\, United States
CATEGORIES:No Gi
ATTACH;FMTTYPE=image/jpeg:https://thealvesjiujitsu.com/wp-content/uploads/2021/11/no-gi-class.jpg
END:VEVENT
BEGIN:VEVENT
DTSTART;TZID=America/New_York:20240926T170000
DTEND;TZID=America/New_York:20260927T174500
DTSTAMP:20260422T091926
CREATED:20240223T031841Z
LAST-MODIFIED:20250716T000704Z
UID:10002905-1727370000-1790531100@thealvesjiujitsu.com
SUMMARY:Kids NoGi
DESCRIPTION:Coach Dylan teaches NoGi fundamentals in this dynamic class. A great addition to round out the child’s self-defense skills\, and build confidence.
URL:https://thealvesjiujitsu.com/event/kids-mma-2/2024-09-26/
LOCATION:FL
CATEGORIES:Kids Class,No Gi
ATTACH;FMTTYPE=image/jpeg:https://thealvesjiujitsu.com/wp-content/uploads/2022/02/nico-nogi-kids.jpg
END:VEVENT
BEGIN:VEVENT
DTSTART;TZID=America/New_York:20240930T060000
DTEND;TZID=America/New_York:20280930T070000
DTSTAMP:20260422T091926
CREATED:20211221T052414Z
LAST-MODIFIED:20250716T001254Z
UID:10001798-1727676000-1853910000@thealvesjiujitsu.com
SUMMARY:No Gi Class
DESCRIPTION:One hour No Gi class for all levels.
URL:https://thealvesjiujitsu.com/event/no-gi-class/2024-09-30/
LOCATION:Team Alves Brazilian Jiu-Jitsu\, 5566 Palmer Blvd\, Sarasota\, FL\, 34232\, United States
CATEGORIES:No Gi
ATTACH;FMTTYPE=image/jpeg:https://thealvesjiujitsu.com/wp-content/uploads/2021/11/no-gi-class.jpg
END:VEVENT
BEGIN:VEVENT
DTSTART;TZID=America/New_York:20241001T170000
DTEND;TZID=America/New_York:20261002T174500
DTSTAMP:20260422T091926
CREATED:20240223T031841Z
LAST-MODIFIED:20250716T000704Z
UID:10002906-1727802000-1790963100@thealvesjiujitsu.com
SUMMARY:Kids NoGi
DESCRIPTION:Coach Dylan teaches NoGi fundamentals in this dynamic class. A great addition to round out the child’s self-defense skills\, and build confidence.
URL:https://thealvesjiujitsu.com/event/kids-mma-2/2024-10-01/
LOCATION:FL
CATEGORIES:Kids Class,No Gi
ATTACH;FMTTYPE=image/jpeg:https://thealvesjiujitsu.com/wp-content/uploads/2022/02/nico-nogi-kids.jpg
END:VEVENT
BEGIN:VEVENT
DTSTART;TZID=America/New_York:20241002T060000
DTEND;TZID=America/New_York:20281002T070000
DTSTAMP:20260422T091926
CREATED:20211221T052414Z
LAST-MODIFIED:20250716T001254Z
UID:10001799-1727848800-1854082800@thealvesjiujitsu.com
SUMMARY:No Gi Class
DESCRIPTION:One hour No Gi class for all levels.
URL:https://thealvesjiujitsu.com/event/no-gi-class/2024-10-02/
LOCATION:Team Alves Brazilian Jiu-Jitsu\, 5566 Palmer Blvd\, Sarasota\, FL\, 34232\, United States
CATEGORIES:No Gi
ATTACH;FMTTYPE=image/jpeg:https://thealvesjiujitsu.com/wp-content/uploads/2021/11/no-gi-class.jpg
END:VEVENT
BEGIN:VEVENT
DTSTART;TZID=America/New_York:20241003T170000
DTEND;TZID=America/New_York:20261004T174500
DTSTAMP:20260422T091926
CREATED:20240223T031841Z
LAST-MODIFIED:20250716T000704Z
UID:10002907-1727974800-1791135900@thealvesjiujitsu.com
SUMMARY:Kids NoGi
DESCRIPTION:Coach Dylan teaches NoGi fundamentals in this dynamic class. A great addition to round out the child’s self-defense skills\, and build confidence.
URL:https://thealvesjiujitsu.com/event/kids-mma-2/2024-10-03/
LOCATION:FL
CATEGORIES:Kids Class,No Gi
ATTACH;FMTTYPE=image/jpeg:https://thealvesjiujitsu.com/wp-content/uploads/2022/02/nico-nogi-kids.jpg
END:VEVENT
BEGIN:VEVENT
DTSTART;TZID=America/New_York:20241007T060000
DTEND;TZID=America/New_York:20281007T070000
DTSTAMP:20260422T091926
CREATED:20211221T052414Z
LAST-MODIFIED:20250716T001254Z
UID:10001800-1728280800-1854514800@thealvesjiujitsu.com
SUMMARY:No Gi Class
DESCRIPTION:One hour No Gi class for all levels.
URL:https://thealvesjiujitsu.com/event/no-gi-class/2024-10-07/
LOCATION:Team Alves Brazilian Jiu-Jitsu\, 5566 Palmer Blvd\, Sarasota\, FL\, 34232\, United States
CATEGORIES:No Gi
ATTACH;FMTTYPE=image/jpeg:https://thealvesjiujitsu.com/wp-content/uploads/2021/11/no-gi-class.jpg
END:VEVENT
BEGIN:VEVENT
DTSTART;TZID=America/New_York:20241008T170000
DTEND;TZID=America/New_York:20261009T174500
DTSTAMP:20260422T091926
CREATED:20240223T031841Z
LAST-MODIFIED:20250716T000704Z
UID:10002908-1728406800-1791567900@thealvesjiujitsu.com
SUMMARY:Kids NoGi
DESCRIPTION:Coach Dylan teaches NoGi fundamentals in this dynamic class. A great addition to round out the child’s self-defense skills\, and build confidence.
URL:https://thealvesjiujitsu.com/event/kids-mma-2/2024-10-08/
LOCATION:FL
CATEGORIES:Kids Class,No Gi
ATTACH;FMTTYPE=image/jpeg:https://thealvesjiujitsu.com/wp-content/uploads/2022/02/nico-nogi-kids.jpg
END:VEVENT
BEGIN:VEVENT
DTSTART;TZID=America/New_York:20241009T060000
DTEND;TZID=America/New_York:20281009T070000
DTSTAMP:20260422T091926
CREATED:20211221T052414Z
LAST-MODIFIED:20250716T001254Z
UID:10001801-1728453600-1854687600@thealvesjiujitsu.com
SUMMARY:No Gi Class
DESCRIPTION:One hour No Gi class for all levels.
URL:https://thealvesjiujitsu.com/event/no-gi-class/2024-10-09/
LOCATION:Team Alves Brazilian Jiu-Jitsu\, 5566 Palmer Blvd\, Sarasota\, FL\, 34232\, United States
CATEGORIES:No Gi
ATTACH;FMTTYPE=image/jpeg:https://thealvesjiujitsu.com/wp-content/uploads/2021/11/no-gi-class.jpg
END:VEVENT
BEGIN:VEVENT
DTSTART;TZID=America/New_York:20241010T170000
DTEND;TZID=America/New_York:20261011T174500
DTSTAMP:20260422T091926
CREATED:20240223T031841Z
LAST-MODIFIED:20250716T000704Z
UID:10002909-1728579600-1791740700@thealvesjiujitsu.com
SUMMARY:Kids NoGi
DESCRIPTION:Coach Dylan teaches NoGi fundamentals in this dynamic class. A great addition to round out the child’s self-defense skills\, and build confidence.
URL:https://thealvesjiujitsu.com/event/kids-mma-2/2024-10-10/
LOCATION:FL
CATEGORIES:Kids Class,No Gi
ATTACH;FMTTYPE=image/jpeg:https://thealvesjiujitsu.com/wp-content/uploads/2022/02/nico-nogi-kids.jpg
END:VEVENT
BEGIN:VEVENT
DTSTART;TZID=America/New_York:20241014T060000
DTEND;TZID=America/New_York:20281014T070000
DTSTAMP:20260422T091926
CREATED:20211221T052414Z
LAST-MODIFIED:20250716T001254Z
UID:10001802-1728885600-1855119600@thealvesjiujitsu.com
SUMMARY:No Gi Class
DESCRIPTION:One hour No Gi class for all levels.
URL:https://thealvesjiujitsu.com/event/no-gi-class/2024-10-14/
LOCATION:Team Alves Brazilian Jiu-Jitsu\, 5566 Palmer Blvd\, Sarasota\, FL\, 34232\, United States
CATEGORIES:No Gi
ATTACH;FMTTYPE=image/jpeg:https://thealvesjiujitsu.com/wp-content/uploads/2021/11/no-gi-class.jpg
END:VEVENT
BEGIN:VEVENT
DTSTART;TZID=America/New_York:20241015T170000
DTEND;TZID=America/New_York:20261016T174500
DTSTAMP:20260422T091926
CREATED:20240223T031841Z
LAST-MODIFIED:20250716T000704Z
UID:10002910-1729011600-1792172700@thealvesjiujitsu.com
SUMMARY:Kids NoGi
DESCRIPTION:Coach Dylan teaches NoGi fundamentals in this dynamic class. A great addition to round out the child’s self-defense skills\, and build confidence.
URL:https://thealvesjiujitsu.com/event/kids-mma-2/2024-10-15/
LOCATION:FL
CATEGORIES:Kids Class,No Gi
ATTACH;FMTTYPE=image/jpeg:https://thealvesjiujitsu.com/wp-content/uploads/2022/02/nico-nogi-kids.jpg
END:VEVENT
BEGIN:VEVENT
DTSTART;TZID=America/New_York:20241016T060000
DTEND;TZID=America/New_York:20281016T070000
DTSTAMP:20260422T091926
CREATED:20211221T052414Z
LAST-MODIFIED:20250716T001254Z
UID:10001803-1729058400-1855292400@thealvesjiujitsu.com
SUMMARY:No Gi Class
DESCRIPTION:One hour No Gi class for all levels.
URL:https://thealvesjiujitsu.com/event/no-gi-class/2024-10-16/
LOCATION:Team Alves Brazilian Jiu-Jitsu\, 5566 Palmer Blvd\, Sarasota\, FL\, 34232\, United States
CATEGORIES:No Gi
ATTACH;FMTTYPE=image/jpeg:https://thealvesjiujitsu.com/wp-content/uploads/2021/11/no-gi-class.jpg
END:VEVENT
BEGIN:VEVENT
DTSTART;TZID=America/New_York:20241017T170000
DTEND;TZID=America/New_York:20261018T174500
DTSTAMP:20260422T091926
CREATED:20240223T031841Z
LAST-MODIFIED:20250716T000704Z
UID:10002911-1729184400-1792345500@thealvesjiujitsu.com
SUMMARY:Kids NoGi
DESCRIPTION:Coach Dylan teaches NoGi fundamentals in this dynamic class. A great addition to round out the child’s self-defense skills\, and build confidence.
URL:https://thealvesjiujitsu.com/event/kids-mma-2/2024-10-17/
LOCATION:FL
CATEGORIES:Kids Class,No Gi
ATTACH;FMTTYPE=image/jpeg:https://thealvesjiujitsu.com/wp-content/uploads/2022/02/nico-nogi-kids.jpg
END:VEVENT
BEGIN:VEVENT
DTSTART;TZID=America/New_York:20241021T060000
DTEND;TZID=America/New_York:20281021T070000
DTSTAMP:20260422T091926
CREATED:20211221T052414Z
LAST-MODIFIED:20250716T001254Z
UID:10001804-1729490400-1855724400@thealvesjiujitsu.com
SUMMARY:No Gi Class
DESCRIPTION:One hour No Gi class for all levels.
URL:https://thealvesjiujitsu.com/event/no-gi-class/2024-10-21/
LOCATION:Team Alves Brazilian Jiu-Jitsu\, 5566 Palmer Blvd\, Sarasota\, FL\, 34232\, United States
CATEGORIES:No Gi
ATTACH;FMTTYPE=image/jpeg:https://thealvesjiujitsu.com/wp-content/uploads/2021/11/no-gi-class.jpg
END:VEVENT
BEGIN:VEVENT
DTSTART;TZID=America/New_York:20241022T170000
DTEND;TZID=America/New_York:20261023T174500
DTSTAMP:20260422T091926
CREATED:20240223T031841Z
LAST-MODIFIED:20250716T000704Z
UID:10002912-1729616400-1792777500@thealvesjiujitsu.com
SUMMARY:Kids NoGi
DESCRIPTION:Coach Dylan teaches NoGi fundamentals in this dynamic class. A great addition to round out the child’s self-defense skills\, and build confidence.
URL:https://thealvesjiujitsu.com/event/kids-mma-2/2024-10-22/
LOCATION:FL
CATEGORIES:Kids Class,No Gi
ATTACH;FMTTYPE=image/jpeg:https://thealvesjiujitsu.com/wp-content/uploads/2022/02/nico-nogi-kids.jpg
END:VEVENT
BEGIN:VEVENT
DTSTART;TZID=America/New_York:20241023T060000
DTEND;TZID=America/New_York:20281023T070000
DTSTAMP:20260422T091926
CREATED:20211221T052414Z
LAST-MODIFIED:20250716T001254Z
UID:10001805-1729663200-1855897200@thealvesjiujitsu.com
SUMMARY:No Gi Class
DESCRIPTION:One hour No Gi class for all levels.
URL:https://thealvesjiujitsu.com/event/no-gi-class/2024-10-23/
LOCATION:Team Alves Brazilian Jiu-Jitsu\, 5566 Palmer Blvd\, Sarasota\, FL\, 34232\, United States
CATEGORIES:No Gi
ATTACH;FMTTYPE=image/jpeg:https://thealvesjiujitsu.com/wp-content/uploads/2021/11/no-gi-class.jpg
END:VEVENT
BEGIN:VEVENT
DTSTART;TZID=America/New_York:20241024T170000
DTEND;TZID=America/New_York:20261025T174500
DTSTAMP:20260422T091926
CREATED:20240223T031841Z
LAST-MODIFIED:20250716T000704Z
UID:10002913-1729789200-1792950300@thealvesjiujitsu.com
SUMMARY:Kids NoGi
DESCRIPTION:Coach Dylan teaches NoGi fundamentals in this dynamic class. A great addition to round out the child’s self-defense skills\, and build confidence.
URL:https://thealvesjiujitsu.com/event/kids-mma-2/2024-10-24/
LOCATION:FL
CATEGORIES:Kids Class,No Gi
ATTACH;FMTTYPE=image/jpeg:https://thealvesjiujitsu.com/wp-content/uploads/2022/02/nico-nogi-kids.jpg
END:VEVENT
BEGIN:VEVENT
DTSTART;TZID=America/New_York:20241028T060000
DTEND;TZID=America/New_York:20281028T070000
DTSTAMP:20260422T091926
CREATED:20211221T052414Z
LAST-MODIFIED:20250716T001254Z
UID:10001806-1730095200-1856329200@thealvesjiujitsu.com
SUMMARY:No Gi Class
DESCRIPTION:One hour No Gi class for all levels.
URL:https://thealvesjiujitsu.com/event/no-gi-class/2024-10-28/
LOCATION:Team Alves Brazilian Jiu-Jitsu\, 5566 Palmer Blvd\, Sarasota\, FL\, 34232\, United States
CATEGORIES:No Gi
ATTACH;FMTTYPE=image/jpeg:https://thealvesjiujitsu.com/wp-content/uploads/2021/11/no-gi-class.jpg
END:VEVENT
END:VCALENDAR